{
 "currentVersion": 11.3,
 "serviceDescription": "Tomek/Tomek1419_test",
 "name": "Tomek/Tomek1419_test",
 "description": "",
 "extent": {
  "xmin": -745614.7062057685,
  "ymin": -1045723.6795877349,
  "xmax": -741456.8404775981,
  "ymax": -1041652.0555594193,
  "spatialReference": {
   "wkid": 102067,
   "latestWkid": 5514
  }
 },
 "initialExtent": {
  "xmin": -745614.7062057685,
  "ymin": -1045723.6795877349,
  "xmax": -741456.8404775981,
  "ymax": -1041652.0555594193,
  "spatialReference": {
   "wkid": 102067,
   "latestWkid": 5514
  }
 },
 "fullExtent": {
  "xmin": -745614.7062057685,
  "ymin": -1045723.6795877349,
  "xmax": -741456.8404775981,
  "ymax": -1041652.0555594193,
  "spatialReference": {
   "wkid": 102067,
   "latestWkid": 5514
  }
 },
 "sortableFields": "",
 "bandCount": 4,
 "pixelType": "S16",
 "minValues": [
  0,
  0,
  0,
  0
 ],
 "maxValues": [
  255,
  255,
  255,
  255
 ],
 "meanValues": [
  207.48785612703,
  198.91615923984,
  173.99863411447,
  254.99999440192
 ],
 "stdvValues": [
  47.12660022459,
  48.547635925319,
  61.297373778337,
  0.037778433645768
 ],
 "hasMultidimensions": false,
 "pixelSizeX": 0.49998385379634175,
 "pixelSizeY": 0.49995383451811576,
 "meanPixelSize": 0.49996884415722875,
 "datasetFormat": "TIFF",
 "uncompressedSize": 541804032,
 "blockWidth": 128,
 "blockHeight": 128,
 "compressionType": "None",
 "bandNames": [
  "Band_1",
  "Band_2",
  "Band_3",
  "Band_4"
 ],
 "allowCopy": true,
 "allowAnalysis": true,
 "itemAccess": false,
 "inspectionCapabilities": "",
 "noDataValue": -9999,
 "noDataValues": [
  -9999,
  -9999,
  -9999,
  -9999
 ],
 "minPixelSize": 0.13229193125052918,
 "maxPixelSize": 52.91677250021168,
 "copyrightText": "",
 "serviceDataType": "esriImageServiceDataTypeGeneric",
 "serviceSourceType": "esriImageServiceSourceTypeDataset",
 "objectIdField": "",
 "fields": [],
 "capabilities": "Image,Metadata,Mensuration",
 "defaultMosaicMethod": "Center",
 "allowedMosaicMethods": "",
 "sortField": "",
 "sortValue": null,
 "sortAscending": true,
 "mosaicOperator": "First",
 "defaultCompressionQuality": 75,
 "defaultResamplingMethod": "Bilinear",
 "maxImageHeight": 4100,
 "maxImageWidth": 15000,
 "singleFusedMapCache": true,
 "tileInfo": {
  "rows": 512,
  "cols": 512,
  "dpi": 96,
  "format": "MIXED",
  "compressionQuality": 75,
  "origin": {
   "x": -33699800,
   "y": 33699800
  },
  "spatialReference": {
   "wkid": 102067,
   "latestWkid": 5514
  },
  "lods": [
   {
    "level": 0,
    "resolution": 198.43789687579377,
    "scale": 750000
   },
   {
    "level": 1,
    "resolution": 132.2919312505292,
    "scale": 500000
   },
   {
    "level": 2,
    "resolution": 92.60435187537043,
    "scale": 350000
   },
   {
    "level": 3,
    "resolution": 52.91677250021167,
    "scale": 200000
   },
   {
    "level": 4,
    "resolution": 39.687579375158755,
    "scale": 150000
   },
   {
    "level": 5,
    "resolution": 26.458386250105836,
    "scale": 100000
   },
   {
    "level": 6,
    "resolution": 19.843789687579378,
    "scale": 75000
   },
   {
    "level": 7,
    "resolution": 13.229193125052918,
    "scale": 50000
   },
   {
    "level": 8,
    "resolution": 6.614596562526459,
    "scale": 25000
   },
   {
    "level": 9,
    "resolution": 5.291677250021167,
    "scale": 20000
   },
   {
    "level": 10,
    "resolution": 3.9687579375158752,
    "scale": 15000
   },
   {
    "level": 11,
    "resolution": 2.6458386250105836,
    "scale": 10000
   },
   {
    "level": 12,
    "resolution": 1.9843789687579376,
    "scale": 7500
   },
   {
    "level": 13,
    "resolution": 1.3229193125052918,
    "scale": 5000
   },
   {
    "level": 14,
    "resolution": 0.9260435187537043,
    "scale": 3500
   },
   {
    "level": 15,
    "resolution": 0.5291677250021167,
    "scale": 2000
   },
   {
    "level": 16,
    "resolution": 0.39687579375158755,
    "scale": 1500
   },
   {
    "level": 17,
    "resolution": 0.26458386250105836,
    "scale": 1000
   },
   {
    "level": 18,
    "resolution": 0.19843789687579377,
    "scale": 750
   },
   {
    "level": 19,
    "resolution": 0.13229193125052918,
    "scale": 500
   }
  ]
 },
 "storageInfo": {
  "storageFormat": "esriMapCacheStorageModeCompactV2",
  "packetSize": 128
 },
 "cacheType": "Map",
 "allowRasterFunction": true,
 "rasterFunctionInfos": [
  {
   "name": "None",
   "description": "",
   "help": ""
  }
 ],
 "rasterTypeInfos": [
  {
   "name": "Raster Dataset",
   "description": "Supports all ArcGIS Raster Datasets",
   "help": ""
  }
 ],
 "mensurationCapabilities": "Basic",
 "hasHistograms": true,
 "hasColormap": false,
 "hasRasterAttributeTable": false,
 "minScale": 200000,
 "maxScale": 500,
 "minLOD": 3,
 "maxLOD": 19,
 "exportTilesAllowed": false,
 "supportsStatistics": false,
 "supportsAdvancedQueries": false,
 "editFieldsInfo": null,
 "ownershipBasedAccessControlForRasters": null,
 "allowComputeTiePoints": false,
 "useStandardizedQueries": true,
 "advancedQueryCapabilities": {
  "useStandardizedQueries": true,
  "supportsStatistics": false,
  "supportsOrderBy": false,
  "supportsDistinct": false,
  "supportsPagination": false
 },
 "spatialReference": {
  "wkid": 102067,
  "latestWkid": 5514
 }
}
