View In:
ArcGIS JavaScript
ArcGIS Online Map Viewer
ArcGIS Earth
Service Description: Tomek/Tomek1419
Name: Tomek/Tomek1419
Description:
Single Fused Map Cache: true
Tile Info:
- Height: 512
- Width: 512
- DPI: 96
-
Levels of Detail: 20
- Format: MIXED
- Compression Quality: 75.0
- LERC Error: NaN
- Origin: X: -3.36998E7
Y: 3.36998E7
- Spatial Reference: 102067
(5514)
Storage Info:
- Storage Format: esriMapCacheStorageModeCompactV2
- Packet Size: 128
Extent:
XMin: -745614.7062057685
YMin: -1045723.6795877349
XMax: -741456.8404775981
YMax: -1041652.0555594193
Spatial Reference: 102067
(5514)
Initial Extent:
XMin: -745614.7062057685
YMin: -1045723.6795877349
XMax: -741456.8404775981
YMax: -1041652.0555594193
Spatial Reference: 102067
(5514)
Full Extent:
XMin: -745614.7062057685
YMin: -1045723.6795877349
XMax: -741456.8404775981
YMax: -1041652.0555594193
Spatial Reference: 102067
(5514)
Pixel Size X: 0.14999515613890252
Pixel Size Y: 0.14999535930431146
Band Count: 4
Pixel Type: S16
RasterFunction Infos: {"rasterFunctionInfos": [{
"name": "None",
"description": "",
"help": ""
}]}
Mensuration Capabilities: Basic
Inspection Capabilities:
Has Histograms: true
Has Colormap: false
Has Multi Dimensions : false
Rendering Rule:
Min Scale: 50000
Max Scale: 500
Min LOD: 7
Max LOD: 19
Copyright Text:
Service Data Type: esriImageServiceDataTypeGeneric
Min Values: 0, 0, 0, 0
Max Values: 255, 255, 255, 255
Mean Values: 207.49131161254, 198.91893749251, 174.00206483647, 254.99998986989
Standard Deviation Values: 47.400538060612, 48.843386429303, 61.586214533392, 0.050686642068344
Object ID Field:
Fields:
None
Default Mosaic Method: Center
Allowed Mosaic Methods:
SortField:
SortValue: null
Mosaic Operator: First
Default Compression Quality: 75
Default Resampling Method: Bilinear
Max Record Count: null
Max Image Height: 4100
Max Image Width: 15000
Max Download Image Count: null
Max Mosaic Image Count: null
Allow Raster Function: true
Allow Copy: true
Allow Analysis: true
Allow Compute TiePoints: false
Supports Statistics: false
Supports Advanced Queries: false
Use StandardizedQueries: true
Raster Type Infos:
Name: Raster Dataset
Description: Supports all ArcGIS Raster Datasets
Help:
Has Raster Attribute Table: false
Edit Fields Info: null
Ownership Based AccessControl For Rasters: null
Child Resources:
Info
Histograms
Statistics
Key Properties
Legend
Raster Function Infos
Supported Operations:
Export Image
Identify
Measure
Compute Histograms
Compute Statistics Histograms
Get Samples
Compute Class Statistics
Query Boundary
Compute Pixel Location
Compute Angles
Validate
Project