View In:
ArcGIS JavaScript
ArcGIS Online Map Viewer
ArcGIS Earth
Service Description: Tomek/Tomek1419_Hradcany_MalaStrana
Name: Tomek/Tomek1419_Hradcany_MalaStrana
Description:
Single Fused Map Cache: true
Tile Info:
- Height: 512
- Width: 512
- DPI: 96
-
Levels of Detail: 20
- Format: MIXED
- Compression Quality: 75.0
- LERC Error: NaN
- Origin: X: -3.36998E7
Y: 3.36998E7
- Spatial Reference: 102067
(5514)
Storage Info:
- Storage Format: esriMapCacheStorageModeCompactV2
- Packet Size: 128
Extent:
XMin: -745272.5672546157
YMin: -1043133.2632412161
XMax: -743432.4266791036
YMax: -1041655.0609774672
Spatial Reference: 102067
(5514)
Initial Extent:
XMin: -745272.5672546157
YMin: -1043133.2632412161
XMax: -743432.4266791036
YMax: -1041655.0609774672
Spatial Reference: 102067
(5514)
Full Extent:
XMin: -745272.5672546157
YMin: -1043133.2632412161
XMax: -743432.4266791036
YMax: -1041655.0609774672
Spatial Reference: 102067
(5514)
Pixel Size X: 0.14999515613890443
Pixel Size Y: 0.14999515613889958
Band Count: 4
Pixel Type: S16
RasterFunction Infos: {"rasterFunctionInfos": [{
"name": "None",
"description": "",
"help": ""
}]}
Mensuration Capabilities: Basic
Inspection Capabilities:
Has Histograms: true
Has Colormap: false
Has Multi Dimensions : false
Rendering Rule:
Min Scale: 15000
Max Scale: 500
Resampling: false
Copyright Text:
Service Data Type: esriImageServiceDataTypeGeneric
Min Values: 5, 4, 0, 255
Max Values: 255, 255, 255, 255
Mean Values: 210.02082073450433, 191.9728085196534, 152.12730120103478, 255
Standard Deviation Values: 43.705464383580875, 47.12845901395091, 66.16056943426851, 0
Object ID Field:
Fields:
None
Default Mosaic Method: Center
Allowed Mosaic Methods:
SortField:
SortValue: null
Mosaic Operator: First
Default Compression Quality: 75
Default Resampling Method: Bilinear
Max Record Count: null
Max Image Height: 4100
Max Image Width: 15000
Max Download Image Count: null
Max Mosaic Image Count: null
Allow Raster Function: true
Allow Copy: true
Allow Analysis: true
Allow Compute TiePoints: false
Supports Statistics: false
Supports Advanced Queries: false
Use StandardizedQueries: true
Raster Type Infos:
Name: Raster Dataset
Description: Supports all ArcGIS Raster Datasets
Help:
Has Raster Attribute Table: false
Edit Fields Info: null
Ownership Based AccessControl For Rasters: null
Child Resources:
Info
Histograms
Statistics
Key Properties
Legend
Raster Function Infos
Supported Operations:
Export Image
Identify
Measure
Compute Histograms
Compute Statistics Histograms
Get Samples
Compute Class Statistics
Query Boundary
Compute Pixel Location
Compute Angles
Validate
Project